BEGIN:VCALENDAR
VERSION:2.0
PRODID:-//Kinbaku New Mexico - ECPv6.15.20//NONSGML v1.0//EN
CALSCALE:GREGORIAN
METHOD:PUBLISH
X-ORIGINAL-URL:https://kinbakunm.com
X-WR-CALDESC:Events for Kinbaku New Mexico
REFRESH-INTERVAL;VALUE=DURATION:PT1H
X-Robots-Tag:noindex
X-PUBLISHED-TTL:PT1H
BEGIN:VTIMEZONE
TZID:America/Denver
BEGIN:DAYLIGHT
TZOFFSETFROM:-0700
TZOFFSETTO:-0600
TZNAME:MDT
DTSTART:20220313T090000
END:DAYLIGHT
BEGIN:STANDARD
TZOFFSETFROM:-0600
TZOFFSETTO:-0700
TZNAME:MST
DTSTART:20221106T080000
END:STANDARD
BEGIN:DAYLIGHT
TZOFFSETFROM:-0700
TZOFFSETTO:-0600
TZNAME:MDT
DTSTART:20230312T090000
END:DAYLIGHT
BEGIN:STANDARD
TZOFFSETFROM:-0600
TZOFFSETTO:-0700
TZNAME:MST
DTSTART:20231105T080000
END:STANDARD
BEGIN:DAYLIGHT
TZOFFSETFROM:-0700
TZOFFSETTO:-0600
TZNAME:MDT
DTSTART:20240310T090000
END:DAYLIGHT
BEGIN:STANDARD
TZOFFSETFROM:-0600
TZOFFSETTO:-0700
TZNAME:MST
DTSTART:20241103T080000
END:STANDARD
END:VTIMEZONE
BEGIN:VEVENT
DTSTART;TZID=America/Denver:20230304T180000
DTEND;TZID=America/Denver:20230304T213000
DTSTAMP:20260421T075424
CREATED:20230209T004121Z
LAST-MODIFIED:20230209T004121Z
UID:3654-1677952800-1677965400@kinbakunm.com
SUMMARY:Semi-Open Rope
DESCRIPTION:Semi-Open Rope is a gathering for people interested in all forms of rope bondage. While KNM’s focus is Japanese Kinbaku\, we welcome anyone who would like to meet with others sharing an interest in rope. \nWhen:\nSemi-Open Rope is hosted on Saturday evenings. Other events to be scheduled based on input from attendees. \nImportant – If you want to attend our events\, read all of this:\nThis is NOT a Public Event. If you have not attended an event at KNM in the past 18 months\, please use the Contact form. Introduce yourself\, and give a brief summary of your interest and/or experience with Rope Bondage. We will then contact you. \nRSVP:\nWe use email for RSVP. Period.\nClick here for the Contact Form\nPlease be serious about attending. Reserving a place and not showing-up is considered bad manners.  Doing so (without some sort of prior notice) will put you at the bottom of the list for future events.\nReservations close on the Thursday before the event.  Final invitations are sent on Friday. \nSpace is Limited:\nThe KNM Juku is an intimate space. No more than 6-8 guests will be allowed. \nCovid Safety:\nLet’s not allow politics to interfere. However\, we are requiring everyone at this event to be fully vaccinated. If you have chosen or have medical reasons to not be fully vaccinated\, please do not RSVP for this event. \nWhat should you bring?\n• An open mind.\n• A willingness to meet and interact with others interested in rope bondage.\n• Rope. We recommend at least 3 or 4 lengths of rope\, preferably Jute\, 7-8 meters in length\, and 5-6mm in diameter.\n• Someone to tie.  These events are geared towards couples.\n• Please Note –\n– Singles wishing to top: we have no mechanism in place to gain the advance consent of other participants to being observed.  If you’d like to attend\, find someone to tie and bring them along.\n– Singles wishing to be tied: we occasionally allow for this\, if you’re willing to be tied during demonstrations. \nDon’t have rope of your own? \nWe have limited rope available for use. And we always have rope for sale – both for beginners\, and high-quality professional Jute. \nWhy is there a fee?\nThere is no required fee for participation in this event. We appreciate donations (suggested minimum of $5 per person) to help maintain the space\, equipment\, and provide for rope we loan to participants.\nWhen events become instructional\, we have also asked for a $20 (student only) exchange of value.  Note that regular private sessions are $60.\nIf you absolutely can’t afford to donate\, please let us know.  We won’t refuse you attending because of a lack of ability to pay. \nKinbaku New Mexico teaches Rope Bondage for Beginners.  And the basics of Japanese Kinbaku\, Shibari\, and Semenawa.  We are easily accessible to students in Santa Fe\, Albuquerque\, and Taos\, NM. \nRope Bondage for Beginners
URL:https://kinbakunm.com/event/semi-open-rope-30/
LOCATION:Kinbaku New Mexico – Santa Fe\, NM
CATEGORIES:Class,Event
END:VEVENT
END:VCALENDAR