BEGIN:VCALENDAR
VERSION:2.0
PRODID:-//Kinbaku New Mexico - ECPv6.15.20//NONSGML v1.0//EN
CALSCALE:GREGORIAN
METHOD:PUBLISH
X-WR-CALNAME:Kinbaku New Mexico
X-ORIGINAL-URL:https://kinbakunm.com
X-WR-CALDESC:Events for Kinbaku New Mexico
REFRESH-INTERVAL;VALUE=DURATION:PT1H
X-Robots-Tag:noindex
X-PUBLISHED-TTL:PT1H
BEGIN:VTIMEZONE
TZID:America/Denver
BEGIN:DAYLIGHT
TZOFFSETFROM:-0700
TZOFFSETTO:-0600
TZNAME:MDT
DTSTART:20250309T090000
END:DAYLIGHT
BEGIN:STANDARD
TZOFFSETFROM:-0600
TZOFFSETTO:-0700
TZNAME:MST
DTSTART:20251102T080000
END:STANDARD
BEGIN:DAYLIGHT
TZOFFSETFROM:-0700
TZOFFSETTO:-0600
TZNAME:MDT
DTSTART:20260308T090000
END:DAYLIGHT
BEGIN:STANDARD
TZOFFSETFROM:-0600
TZOFFSETTO:-0700
TZNAME:MST
DTSTART:20261101T080000
END:STANDARD
BEGIN:DAYLIGHT
TZOFFSETFROM:-0700
TZOFFSETTO:-0600
TZNAME:MDT
DTSTART:20270314T090000
END:DAYLIGHT
BEGIN:STANDARD
TZOFFSETFROM:-0600
TZOFFSETTO:-0700
TZNAME:MST
DTSTART:20271107T080000
END:STANDARD
END:VTIMEZONE
BEGIN:VEVENT
DTSTART;TZID=America/Denver:20260507T190000
DTEND;TZID=America/Denver:20260507T220000
DTSTAMP:20260421T105828
CREATED:20260420T150040Z
LAST-MODIFIED:20260420T150040Z
UID:7409-1778180400-1778191200@kinbakunm.com
SUMMARY:Private Session - Juku Closed
DESCRIPTION:Private Session – Juku is Closed
URL:https://kinbakunm.com/event/private-session-juku-closed-92/
LOCATION:Kinbaku New Mexico – Santa Fe\, NM
CATEGORIES:Private
END:VEVENT
BEGIN:VEVENT
DTSTART;TZID=America/Denver:20260509T190000
DTEND;TZID=America/Denver:20260509T220000
DTSTAMP:20260421T105828
CREATED:20260420T145951Z
LAST-MODIFIED:20260420T145951Z
UID:7402-1778353200-1778364000@kinbakunm.com
SUMMARY:Semi-Open Kinbaku
DESCRIPTION:Semi-Open Kinbaku – By Reservation Only.  Space is limited.
URL:https://kinbakunm.com/event/semi-open-kinbaku-67/
LOCATION:Kinbaku New Mexico – Santa Fe\, NM
CATEGORIES:Event,Semi-Open Kinbaku
END:VEVENT
BEGIN:VEVENT
DTSTART;TZID=America/Denver:20260511T190000
DTEND;TZID=America/Denver:20260511T220000
DTSTAMP:20260421T105828
CREATED:20260420T150041Z
LAST-MODIFIED:20260420T150041Z
UID:7410-1778526000-1778536800@kinbakunm.com
SUMMARY:Private Session - Juku Closed
DESCRIPTION:Private Session – Juku is Closed
URL:https://kinbakunm.com/event/private-session-juku-closed-93/
LOCATION:Kinbaku New Mexico – Santa Fe\, NM
CATEGORIES:Private
END:VEVENT
BEGIN:VEVENT
DTSTART;TZID=America/Denver:20260514T190000
DTEND;TZID=America/Denver:20260514T220000
DTSTAMP:20260421T105828
CREATED:20260420T150042Z
LAST-MODIFIED:20260420T150042Z
UID:7411-1778785200-1778796000@kinbakunm.com
SUMMARY:Private Session - Juku Closed
DESCRIPTION:Private Session – Juku is Closed
URL:https://kinbakunm.com/event/private-session-juku-closed-94/
LOCATION:Kinbaku New Mexico – Santa Fe\, NM
CATEGORIES:Private
END:VEVENT
BEGIN:VEVENT
DTSTART;TZID=America/Denver:20260516T190000
DTEND;TZID=America/Denver:20260516T220000
DTSTAMP:20260421T105828
CREATED:20260420T145952Z
LAST-MODIFIED:20260420T145952Z
UID:7403-1778958000-1778968800@kinbakunm.com
SUMMARY:Semi-Open Kinbaku
DESCRIPTION:Semi-Open Kinbaku – By Reservation Only.  Space is limited.
URL:https://kinbakunm.com/event/semi-open-kinbaku-68/
LOCATION:Kinbaku New Mexico – Santa Fe\, NM
CATEGORIES:Event,Semi-Open Kinbaku
END:VEVENT
BEGIN:VEVENT
DTSTART;TZID=America/Denver:20260518T190000
DTEND;TZID=America/Denver:20260518T220000
DTSTAMP:20260421T105828
CREATED:20260420T150042Z
LAST-MODIFIED:20260420T150042Z
UID:7412-1779130800-1779141600@kinbakunm.com
SUMMARY:Private Session - Juku Closed
DESCRIPTION:Private Session – Juku is Closed
URL:https://kinbakunm.com/event/private-session-juku-closed-95/
LOCATION:Kinbaku New Mexico – Santa Fe\, NM
CATEGORIES:Private
END:VEVENT
BEGIN:VEVENT
DTSTART;TZID=America/Denver:20260521T190000
DTEND;TZID=America/Denver:20260521T220000
DTSTAMP:20260421T105828
CREATED:20260420T150050Z
LAST-MODIFIED:20260420T150050Z
UID:7413-1779390000-1779400800@kinbakunm.com
SUMMARY:Private Session - Juku Closed
DESCRIPTION:Private Session – Juku is Closed
URL:https://kinbakunm.com/event/private-session-juku-closed-96/
LOCATION:Kinbaku New Mexico – Santa Fe\, NM
CATEGORIES:Private
END:VEVENT
BEGIN:VEVENT
DTSTART;TZID=America/Denver:20260523T190000
DTEND;TZID=America/Denver:20260523T220000
DTSTAMP:20260421T105828
CREATED:20260420T145953Z
LAST-MODIFIED:20260420T145953Z
UID:7404-1779562800-1779573600@kinbakunm.com
SUMMARY:Semi-Open Kinbaku
DESCRIPTION:Semi-Open Kinbaku – By Reservation Only.  Space is limited.
URL:https://kinbakunm.com/event/semi-open-kinbaku-69/
LOCATION:Kinbaku New Mexico – Santa Fe\, NM
CATEGORIES:Event,Semi-Open Kinbaku
END:VEVENT
BEGIN:VEVENT
DTSTART;TZID=America/Denver:20260525T190000
DTEND;TZID=America/Denver:20260525T220000
DTSTAMP:20260421T105828
CREATED:20260420T150051Z
LAST-MODIFIED:20260420T150051Z
UID:7414-1779735600-1779746400@kinbakunm.com
SUMMARY:Private Session - Juku Closed
DESCRIPTION:Private Session – Juku is Closed
URL:https://kinbakunm.com/event/private-session-juku-closed-97/
LOCATION:Kinbaku New Mexico – Santa Fe\, NM
CATEGORIES:Private
END:VEVENT
BEGIN:VEVENT
DTSTART;TZID=America/Denver:20260528T190000
DTEND;TZID=America/Denver:20260528T220000
DTSTAMP:20260421T105828
CREATED:20260420T150051Z
LAST-MODIFIED:20260420T150051Z
UID:7415-1779994800-1780005600@kinbakunm.com
SUMMARY:Private Session - Juku Closed
DESCRIPTION:Private Session – Juku is Closed
URL:https://kinbakunm.com/event/private-session-juku-closed-98/
LOCATION:Kinbaku New Mexico – Santa Fe\, NM
CATEGORIES:Private
END:VEVENT
BEGIN:VEVENT
DTSTART;TZID=America/Denver:20260530T190000
DTEND;TZID=America/Denver:20260530T220000
DTSTAMP:20260421T105828
CREATED:20260420T145953Z
LAST-MODIFIED:20260420T145953Z
UID:7405-1780167600-1780178400@kinbakunm.com
SUMMARY:Semi-Open Kinbaku
DESCRIPTION:Semi-Open Kinbaku – By Reservation Only.  Space is limited.
URL:https://kinbakunm.com/event/semi-open-kinbaku-70/
LOCATION:Kinbaku New Mexico – Santa Fe\, NM
CATEGORIES:Event,Semi-Open Kinbaku
END:VEVENT
END:VCALENDAR