BEGIN:VCALENDAR
VERSION:2.0
PRODID:-//Kinbaku New Mexico - ECPv6.15.20//NONSGML v1.0//EN
CALSCALE:GREGORIAN
METHOD:PUBLISH
X-ORIGINAL-URL:https://kinbakunm.com
X-WR-CALDESC:Events for Kinbaku New Mexico
REFRESH-INTERVAL;VALUE=DURATION:PT1H
X-Robots-Tag:noindex
X-PUBLISHED-TTL:PT1H
BEGIN:VTIMEZONE
TZID:America/Denver
BEGIN:DAYLIGHT
TZOFFSETFROM:-0700
TZOFFSETTO:-0600
TZNAME:MDT
DTSTART:20250309T090000
END:DAYLIGHT
BEGIN:STANDARD
TZOFFSETFROM:-0600
TZOFFSETTO:-0700
TZNAME:MST
DTSTART:20251102T080000
END:STANDARD
BEGIN:DAYLIGHT
TZOFFSETFROM:-0700
TZOFFSETTO:-0600
TZNAME:MDT
DTSTART:20260308T090000
END:DAYLIGHT
BEGIN:STANDARD
TZOFFSETFROM:-0600
TZOFFSETTO:-0700
TZNAME:MST
DTSTART:20261101T080000
END:STANDARD
BEGIN:DAYLIGHT
TZOFFSETFROM:-0700
TZOFFSETTO:-0600
TZNAME:MDT
DTSTART:20270314T090000
END:DAYLIGHT
BEGIN:STANDARD
TZOFFSETFROM:-0600
TZOFFSETTO:-0700
TZNAME:MST
DTSTART:20271107T080000
END:STANDARD
END:VTIMEZONE
BEGIN:VEVENT
DTSTART;TZID=America/Denver:20260103T190000
DTEND;TZID=America/Denver:20260103T220000
DTSTAMP:20260421T031022
CREATED:20251226T163932Z
LAST-MODIFIED:20251226T163932Z
UID:6764-1767466800-1767477600@kinbakunm.com
SUMMARY:Semi-Open Kinbaku
DESCRIPTION:Semi-Open Kinbaku – By Reservation Only.  Space is limited.
URL:https://kinbakunm.com/event/semi-open-kinbaku-49/
LOCATION:Kinbaku New Mexico – Santa Fe\, NM
CATEGORIES:Event,Semi-Open Kinbaku
END:VEVENT
BEGIN:VEVENT
DTSTART;TZID=America/Denver:20260110T190000
DTEND;TZID=America/Denver:20260110T220000
DTSTAMP:20260421T031022
CREATED:20251226T163933Z
LAST-MODIFIED:20251226T163933Z
UID:6765-1768071600-1768082400@kinbakunm.com
SUMMARY:Semi-Open Kinbaku
DESCRIPTION:Semi-Open Kinbaku – By Reservation Only.  Space is limited.
URL:https://kinbakunm.com/event/semi-open-kinbaku-50/
LOCATION:Kinbaku New Mexico – Santa Fe\, NM
CATEGORIES:Event,Semi-Open Kinbaku
END:VEVENT
BEGIN:VEVENT
DTSTART;TZID=America/Denver:20260117T190000
DTEND;TZID=America/Denver:20260117T220000
DTSTAMP:20260421T031022
CREATED:20251226T163934Z
LAST-MODIFIED:20251226T163934Z
UID:6766-1768676400-1768687200@kinbakunm.com
SUMMARY:Semi-Open Kinbaku
DESCRIPTION:Semi-Open Kinbaku – By Reservation Only.  Space is limited.
URL:https://kinbakunm.com/event/semi-open-kinbaku-51/
LOCATION:Kinbaku New Mexico – Santa Fe\, NM
CATEGORIES:Event,Semi-Open Kinbaku
END:VEVENT
BEGIN:VEVENT
DTSTART;TZID=America/Denver:20260124T190000
DTEND;TZID=America/Denver:20260124T220000
DTSTAMP:20260421T031022
CREATED:20251226T163934Z
LAST-MODIFIED:20251226T163934Z
UID:6767-1769281200-1769292000@kinbakunm.com
SUMMARY:Semi-Open Kinbaku
DESCRIPTION:Semi-Open Kinbaku – By Reservation Only.  Space is limited.
URL:https://kinbakunm.com/event/semi-open-kinbaku-52/
LOCATION:Kinbaku New Mexico – Santa Fe\, NM
CATEGORIES:Event,Semi-Open Kinbaku
END:VEVENT
BEGIN:VEVENT
DTSTART;TZID=America/Denver:20260131T190000
DTEND;TZID=America/Denver:20260131T220000
DTSTAMP:20260421T031022
CREATED:20251226T163935Z
LAST-MODIFIED:20251226T163935Z
UID:6768-1769886000-1769896800@kinbakunm.com
SUMMARY:Semi-Open Kinbaku
DESCRIPTION:Semi-Open Kinbaku – By Reservation Only.  Space is limited.
URL:https://kinbakunm.com/event/semi-open-kinbaku-53/
LOCATION:Kinbaku New Mexico – Santa Fe\, NM
CATEGORIES:Event,Semi-Open Kinbaku
END:VEVENT
END:VCALENDAR